BEGIN:VCALENDAR
VERSION:2.0
PRODID:-//wp-events-plugin.com//7.2.3.1//EN
TZID:America/New_York
X-WR-TIMEZONE:America/New_York
BEGIN:VEVENT
UID:1267@southshorerotary.org
DTSTART;TZID=America/New_York:20240502T121500
DTEND;TZID=America/New_York:20240502T131500
DTSTAMP:20240312T125650Z
URL:https://southshorerotary.org/events/south-shore-meeting-2024-05-02/
SUMMARY:Weekly Meeting - Gregory Drapkin Assistant Director of the JCC Soci
 al Adult Day Care Program
DESCRIPTION:
CATEGORIES:Members
LOCATION:Old Bermuda Inn\, 2512 Arthur Kill RD\, Staten Island\, NY\, 10309
 \, United States
X-APPLE-STRUCTURED-LOCATION;VALUE=URI;X-ADDRESS=2512 Arthur Kill RD\, State
 n Island\, NY\, 10309\, United States;X-APPLE-RADIUS=100;X-TITLE=Old Bermu
 da Inn:geo:0,0
END:VEVENT
BEGIN:VTIMEZONE
TZID:America/New_York
X-LIC-LOCATION:America/New_York
BEGIN:DAYLIGHT
DTSTART:20240310T030000
TZOFFSETFROM:-0500
TZOFFSETTO:-0400
TZNAME:EDT
END:DAYLIGHT
END:VTIMEZONE
END:VCALENDAR